BEGIN:VCALENDAR
VERSION:2.0
PRODID:-//Kiwanis Club du Vignoble neuchâtelois - ECPv6.15.20//NONSGML v1.0//EN
CALSCALE:GREGORIAN
METHOD:PUBLISH
X-ORIGINAL-URL:https://kiwanisvignoble.ch
X-WR-CALDESC:Évènements pour Kiwanis Club du Vignoble neuchâtelois
REFRESH-INTERVAL;VALUE=DURATION:PT1H
X-Robots-Tag:noindex
X-PUBLISHED-TTL:PT1H
BEGIN:VTIMEZONE
TZID:Europe/Zurich
BEGIN:DAYLIGHT
TZOFFSETFROM:+0100
TZOFFSETTO:+0200
TZNAME:CEST
DTSTART:20250330T010000
END:DAYLIGHT
BEGIN:STANDARD
TZOFFSETFROM:+0200
TZOFFSETTO:+0100
TZNAME:CET
DTSTART:20251026T010000
END:STANDARD
BEGIN:DAYLIGHT
TZOFFSETFROM:+0100
TZOFFSETTO:+0200
TZNAME:CEST
DTSTART:20260329T010000
END:DAYLIGHT
BEGIN:STANDARD
TZOFFSETFROM:+0200
TZOFFSETTO:+0100
TZNAME:CET
DTSTART:20261025T010000
END:STANDARD
BEGIN:DAYLIGHT
TZOFFSETFROM:+0100
TZOFFSETTO:+0200
TZNAME:CEST
DTSTART:20270328T010000
END:DAYLIGHT
BEGIN:STANDARD
TZOFFSETFROM:+0200
TZOFFSETTO:+0100
TZNAME:CET
DTSTART:20271031T010000
END:STANDARD
END:VTIMEZONE
BEGIN:VEVENT
DTSTART;TZID=Europe/Zurich:20261117T190000
DTEND;TZID=Europe/Zurich:20261117T230000
DTSTAMP:20260421T163602
CREATED:20220808T120040Z
LAST-MODIFIED:20251211T090335Z
UID:29251-1794942000-1794956400@kiwanisvignoble.ch
SUMMARY:Avant-première cinéma
DESCRIPTION:[vc_row][vc_column][vc_row_inner][vc_column_inner width= »1/4″][vc_column_text]Le Kiwanis du Vignoble neuchâtelois organise sa traditionnelle projection d’un film en avant-première.[/vc_column_text][/vc_column_inner][vc_column_inner width= »1/2″][vc_single_image image= »30008″ img_size= »full »][/vc_column_inner][vc_column_inner width= »1/4″]CHF25.00Ajouter au panier	\n			\n [/vc_column_inner][/vc_row_inner][vc_empty_space][/vc_column][/vc_row]
URL:https://kiwanisvignoble.ch/evenements/avant-premiere-cinema/
LOCATION:Cinéma Les Arcades\, Faubourg de l'Hôpital 5\, Neuchâtel\, NE\, 2000\, Suisse
CATEGORIES:Kiwanis Vignoble neuchâtelois
END:VEVENT
END:VCALENDAR